Workbook

Sheet Balanced score card
B2: CUADRO DE MANDO INTEGRAL
D4: Valores netos (Revisados)
B5: Area | C5: KPI | D5: ENERO | E5: FEBRERO | F5: MARZO | G5: ABRIL | H5: MAYO | I5: JUNIO | J5: JULIO | K5: AGOSTO | L5: SEPTIEMBRE | M5: OCTUBRE | N5: NOVIEMBRE | O5: DICIEMBRE | P5: Promedio anual
B6: Distribucion | C6: On time | D6: 0.98 | E6: 0.99 | F6: 0.98 | G6: 0.985 | H6: 0.99 | I6: 0.982 | J6: 0.985 | K6: 0.992 | L6: 0.99 | M6: 0.985 | N6: 0.987 | O6: 0.98 | P6: =GEOMEAN(D6:O6) -> 0.98549116
C7: OTIF | D7: 0.97 | E7: 0.985 | F7: 0.97 | G7: 0.98 | H7: 0.99 | I7: 0.975 | J7: 0.99 | K7: 0.99 | L7: 0.99 | M7: 0.98 | N7: 0.985 | O7: 0.97 | P7: =GEOMEAN(D7:O7) -> 0.98121784
C8: Fill rate | D8: 0.97 | E8: 0.975 | F8: 0.97 | G8: 0.972 | H8: 0.98 | I8: 0.971 | J8: 0.972 | K8: 0.98 | L8: 0.98 | M8: 0.972 | N8: 0.975 | O8: 0.97 | P8: =GEOMEAN(D8:O8) -> 0.97390903
B9: Inventario | C9: IRA1 | D9: 0.95 | E9: 0.955 | F9: 0.95 | G9: 0.96 | H9: 0.97 | I9: 0.98 | J9: 0.98 | K9: 0.975 | L9: 0.98 | M9: 0.98 | N9: 0.97 | O9: 0.97 | P9: =GEOMEAN(D9:O9) -> 0.96826781
C10: IRA2 | D10: 0.99 | E10: 0.992 | F10: 0.992 | G10: 0.993 | H10: 0.995 | I10: 0.995 | J10: 0.997 | K10: 0.997 | L10: 0.998 | M10: 0.997 | N10: 0.997 | O10: 0.997 | P10: =GEOMEAN(D10:O10) -> 0.99499681
C11: ILA | D11: 0.95 | E11: 0.96 | F11: 0.996 | G11: 0.996 | H11: 0.997 | I11: 0.98 | J11: 0.98 | K11: 0.97 | L11: 0.98 | M11: 0.975 | N11: 0.97 | O11: 0.97 | P11: =GEOMEAN(D11:O11) -> 0.97690101
C12: OCUPACIÓN | D12: 0.8 | E12: 0.82 | F12: 0.85 | G12: 0.8 | H12: 0.79 | I12: 0.8 | J12: 0.85 | K12: 0.85 | L12: 0.85 | M12: 0.9 | N12: 0.85 | O12: 0.85 | P12: =GEOMEAN(D12:O12) -> 0.83359592
B13: Facturacion | C13: POD | D13: 2 | E13: 2.2 | F13: 2.2 | G13: 2.4 | H13: 2.2 | I13: 2 | J13: 2 | K13: 2.2 | L13: 2.4 | M13: 2.5 | N13: 2.5 | O13: 2.2 | P13: =GEOMEAN(D13:O13) -> 2.2265143
C14: Costo Transporte | D14: 0.2 | E14: 0.2 | F14: 0.25 | G14: 0.25 | H14: 0.2 | I14: 0.22 | J14: 0.23 | K14: 0.23 | L14: 0.24 | M14: 0.25 | N14: 0.2 | O14: 0.3 | P14: =GEOMEAN(D14:O14) -> 0.22913736
B15: Abastecimiento | C15: Piezas recibidas | D15: 350000 | E15: 365000 | F15: 360000 | G15: 300000 | H15: 370000 | I15: 400000 | J15: 450000 | K15: 500000 | L15: 600000 | M15: 600000 | N15: 600000 | O15: 400000 | P15: =GEOMEAN(D15:O15) -> 429762.54
C16: OC recibidas | D16: 155 | E16: 160 | F16: 158 | G16: 130 | H16: 165 | I16: 170 | J16: 200 | K16: 220 | L16: 250 | M16: 250 | N16: 250 | O16: 180 | P16: =GEOMEAN(D16:O16) -> 186.47796
C17: Recibos perfectos | D17: 0.99 | E17: 0.995 | F17: 0.99 | G17: 0.99 | H17: 0.995 | I17: 0.98 | J17: 0.99 | K17: 0.998 | L17: 0.99 | M17: 0.97 | N17: 0.98 | O17: 0.995 | P17: =GEOMEAN(D17:O17) -> 0.98855303
B18: Surtido | C18: Piezas surtidas | D18: 400000 | E18: 420000 | F18: 450000 | G18: 450000 | H18: 450000 | I18: 500000 | J18: 500000 | K18: 600000 | L18: 700000 | M18: 700000 | N18: 700000 | O18: 500000 | P18: =GEOMEAN(D18:O18) -> 520325.59
C19: OV surtidas | D19: 240 | E19: 250 | F19: 260 | G19: 250 | H19: 200 | I19: 270 | J19: 300 | K19: 280 | L19: 350 | M19: 400 | N19: 400 | O19: 250 | P19: =GEOMEAN(D19:O19) -> 281.50675
C20: Surtidos perfectos | D20: 0.97 | E20: 0.975 | F20: 0.97 | G20: 0.972 | H20: 0.98 | I20: 0.971 | J20: 0.972 | K20: 0.98 | L20: 0.98 | M20: 0.972 | N20: 0.975 | O20: 0.97 | P20: =GEOMEAN(D20:O20) -> 0.97390903
B21: RH | C21: # trabajadores | D21: 300 | E21: 300 | F21: 300 | G21: 300 | H21: 300 | I21: 250 | J21: 350 | K21: 350 | L21: 350 | M21: 350 | N21: 350 | O21: 250 | P21: =GEOMEAN(D21:O21) -> 310.32651
C22: Asistencias perfectas | D22: 0.98 | E22: 0.98 | F22: 0.98 | G22: 0.99 | H22: 0.99 | I22: 0.99 | J22: 0.99 | K22: 0.98 | L22: 0.98 | M22: 0.99 | N22: 0.99 | O22: 0.99 | P22: =GEOMEAN(D22:O22) -> 0.98582099

Sheet Dashboard
XEY1: Grafico circula | XFB1: Grafico circular
B2: DASHBOARD (TABLERO DE MANDO) ANUAL | XEY2: Fill rate | XEZ2: =J11 -> 0.97390903 | XFB2: DESOCUPACIÓN | XFC2: =1-C12 -> 0.16640408
B3: KPÍS CONTRACTUALES | XEY3: Negado | XEZ3: =1-XEZ2 -> 0.026090975 | XFB3: Ocupación | XFC3: =1-XFC2 -> 0.83359592
B4: INVENTARIOS | I4: DISTRIBUCIÓN
B5: MES | I5: MES | XEY5: OTIF CONTRATO | XFB5: IRA CONTRATO
B6: Promedio anual | I6: Promedio anual | XEY6: ENERO | XEZ6: 0.985 | XFB6: ENERO | XFC6: 0.993
XEY7: FEBRERO | XEZ7: 0.985 | XFB7: FEBRERO | XFC7: 0.993
I8: KPI´S | XEY8: MARZO | XEZ8: 0.985 | XFB8: MARZO | XFC8: 0.993
B9: KPÍS | I9: OTIF | J9: {=INDEX('Balanced score card'!$C$5:$P$22,MATCH(Dashboard!I9,'Balanced score card'!$C$5:$C$22,0),MATCH(Dashboard!$I$6,'Balanced score card'!$C$5:$P$5,0))} -> 0.98121784 | XEY9: ABRIL | XEZ9: 0.985 | XFB9: ABRIL | XFC9: 0.993
B10: IRA2 | C10: {=INDEX('Balanced score card'!$C$5:$P$22,MATCH(Dashboard!B10,'Balanced score card'!$C$5:$C$22,0),MATCH(Dashboard!$B$6,'Balanced score card'!$C$5:$P$5,0))} -> 0.99499681 | I10: On time | J10: {=INDEX('Balanced score card'!$C$5:$P$22,MATCH(Dashboard!I10,'Balanced score card'!$C$5:$C$22,0),MATCH(Dashboard!$I$6,'Balanced score card'!$C$5:$P$5,0))} -> 0.98549116 | XEY10: MAYO | XEZ10: 0.985 | XFB10: MAYO | XFC10: 0.993
B11: ILA | C11: {=INDEX('Balanced score card'!$C$5:$P$22,MATCH(Dashboard!B11,'Balanced score card'!$C$5:$C$22,0),MATCH(Dashboard!$B$6,'Balanced score card'!$C$5:$P$5,0))} -> 0.97690101 | I11: Fill rate | J11: {=INDEX('Balanced score card'!$C$5:$P$22,MATCH(Dashboard!I11,'Balanced score card'!$C$5:$C$22,0),MATCH(Dashboard!$I$6,'Balanced score card'!$C$5:$P$5,0))} -> 0.97390903 | XEY11: JUNIO | XEZ11: 0.985 | XFB11: JUNIO | XFC11: 0.993
B12: OCUPACIÓN | C12: {=INDEX('Balanced score card'!$C$5:$P$22,MATCH(Dashboard!B12,'Balanced score card'!$C$5:$C$22,0),MATCH(Dashboard!$B$6,'Balanced score card'!$C$5:$P$5,0))} -> 0.83359592 | XEY12: JULIO | XEZ12: 0.985 | XFB12: JULIO | XFC12: 0.993
XEY13: AGOSTO | XEZ13: 0.985 | XFB13: AGOSTO | XFC13: 0.993
XEY14: SEPTIEMBRE | XEZ14: 0.985 | XFB14: SEPTIEMBRE | XFC14: 0.993
B15: CONTRACTUAL | I15: CONTRACTUAL | XEY15: OCTUBRE | XEZ15: 0.985 | XFB15: OCTUBRE | XFC15: 0.993
B16: IRA2 | C16: 0.993 | I16: OTIF | J16: 0.985 | XEY16: NOVIEMBRE | XEZ16: 0.985 | XFB16: NOVIEMBRE | XFC16: 0.993
B17: CUMPLE | C17: =IF(C16<=C10,"SI","NO") -> SI | I17: Cumple | J17: =IF(J16<=J9,"SI","NO") -> NO | XEY17: DICIEMBRE | XEZ17: 0.985 | XFB17: DICIEMBRE | XFC17: 0.993
B20: KPI´S MANAGEMENT
